BEGIN:VCALENDAR
VERSION:2.0
PRODID:-//Welcome to St. Mary’s Catholic High School, Dubai - ECPv6.15.12.2//NONSGML v1.0//EN
CALSCALE:GREGORIAN
METHOD:PUBLISH
X-ORIGINAL-URL:https://www.stmarysdubai.com
X-WR-CALDESC:Events for Welcome to St. Mary’s Catholic High School, Dubai
REFRESH-INTERVAL;VALUE=DURATION:PT1H
X-Robots-Tag:noindex
X-PUBLISHED-TTL:PT1H
BEGIN:VTIMEZONE
TZID:UTC
BEGIN:STANDARD
TZOFFSETFROM:+0000
TZOFFSETTO:+0000
TZNAME:UTC
DTSTART:20250101T000000
END:STANDARD
END:VTIMEZONE
BEGIN:VEVENT
DTSTART;TZID=UTC:20260112T073000
DTEND;TZID=UTC:20260126T130000
DTSTAMP:20260424T224006
CREATED:20250927T070750Z
LAST-MODIFIED:20250927T070750Z
UID:6981-1768203000-1769432400@www.stmarysdubai.com
SUMMARY:FIRST TERM EXAMINATIONS
DESCRIPTION:FIRST TERM EXAMINATIONS
URL:https://www.stmarysdubai.com/event/first-term-examinations/
LOCATION:SMCHS\, ST. MARYS CATHOLIC HIGH SCHOOL\, Dubai\, Dubai\, 52232\, United Arab Emirates
CATEGORIES:Events
END:VEVENT
END:VCALENDAR