BEGIN:VCALENDAR
VERSION:2.0
PRODID:-//Welcome to St. Mary’s Catholic High School, Dubai - ECPv6.15.12.2//NONSGML v1.0//EN
CALSCALE:GREGORIAN
METHOD:PUBLISH
X-WR-CALNAME:Welcome to St. Mary’s Catholic High School, Dubai
X-ORIGINAL-URL:https://www.stmarysdubai.com
X-WR-CALDESC:Events for Welcome to St. Mary’s Catholic High School, Dubai
REFRESH-INTERVAL;VALUE=DURATION:PT1H
X-Robots-Tag:noindex
X-PUBLISHED-TTL:PT1H
BEGIN:VTIMEZONE
TZID:UTC
BEGIN:STANDARD
TZOFFSETFROM:+0000
TZOFFSETTO:+0000
TZNAME:UTC
DTSTART:20250101T000000
END:STANDARD
END:VTIMEZONE
BEGIN:VEVENT
DTSTART;TZID=UTC:20260112T073000
DTEND;TZID=UTC:20260126T130000
DTSTAMP:20260424T210621
CREATED:20250927T070750Z
LAST-MODIFIED:20250927T070750Z
UID:6981-1768203000-1769432400@www.stmarysdubai.com
SUMMARY:FIRST TERM EXAMINATIONS
DESCRIPTION:FIRST TERM EXAMINATIONS
URL:https://www.stmarysdubai.com/event/first-term-examinations/
LOCATION:SMCHS\, ST. MARYS CATHOLIC HIGH SCHOOL\, Dubai\, Dubai\, 52232\, United Arab Emirates
CATEGORIES:Events
END:VEVENT
BEGIN:VEVENT
DTSTART;VALUE=DATE:20260126
DTEND;VALUE=DATE:20260127
DTSTAMP:20260424T210621
CREATED:20260113T083502Z
LAST-MODIFIED:20260113T092153Z
UID:8304-1769385600-1769471999@www.stmarysdubai.com
SUMMARY:CLASS OUTINGS (Students: Years 7 & 8)
DESCRIPTION:Warner Brothers World – Boys \nYas Waterworld – Boys \nMotion Gate – Girls \nAquaventure – Girls \n 
URL:https://www.stmarysdubai.com/event/class-outing-students-years-7-8/
LOCATION:UAE\, Dubai\, Dubai\, United Arab Emirates
CATEGORIES:Events
END:VEVENT
BEGIN:VEVENT
DTSTART;VALUE=DATE:20260126
DTEND;VALUE=DATE:20260127
DTSTAMP:20260424T210621
CREATED:20260108T042444Z
LAST-MODIFIED:20260113T083851Z
UID:8219-1769385600-1769471999@www.stmarysdubai.com
SUMMARY:CLASS OUTINGS (Students: Years 1\, 3\, 4\, 5 & 6)
DESCRIPTION:YEAR 1 – WOOHOO \nYEAR 3 – ROBOLAND \nYEAR 4 – TR88 HOUSE \nYEARS 5 & 6 – SEA WORLD
URL:https://www.stmarysdubai.com/event/class-outings/
LOCATION:UAE\, Dubai\, Dubai\, United Arab Emirates
CATEGORIES:Events
ORGANIZER;CN="SCRAVEL - SCHOOL TRAVEL":MAILTO:support@scravel.com
END:VEVENT
BEGIN:VEVENT
DTSTART;TZID=UTC:20260126T080000
DTEND;TZID=UTC:20260126T103000
DTSTAMP:20260424T210621
CREATED:20260119T042651Z
LAST-MODIFIED:20260119T042651Z
UID:8333-1769414400-1769423400@www.stmarysdubai.com
SUMMARY:NGRT - Form B
DESCRIPTION:Year 9 \nYear 10
URL:https://www.stmarysdubai.com/event/ngrt-form-b-6/
LOCATION:SMCHS\, ST. MARYS CATHOLIC HIGH SCHOOL\, Dubai\, Dubai\, 52232\, United Arab Emirates
CATEGORIES:Events
END:VEVENT
END:VCALENDAR