BEGIN:VCALENDAR
VERSION:2.0
PRODID:-//Welcome to St. Mary’s Catholic High School, Dubai - ECPv6.15.12.2//NONSGML v1.0//EN
CALSCALE:GREGORIAN
METHOD:PUBLISH
X-ORIGINAL-URL:https://www.stmarysdubai.com
X-WR-CALDESC:Events for Welcome to St. Mary’s Catholic High School, Dubai
REFRESH-INTERVAL;VALUE=DURATION:PT1H
X-Robots-Tag:noindex
X-PUBLISHED-TTL:PT1H
BEGIN:VTIMEZONE
TZID:UTC
BEGIN:STANDARD
TZOFFSETFROM:+0000
TZOFFSETTO:+0000
TZNAME:UTC
DTSTART:20250101T000000
END:STANDARD
END:VTIMEZONE
BEGIN:VEVENT
DTSTART;VALUE=DATE:20260202
DTEND;VALUE=DATE:20260203
DTSTAMP:20260424T210625
CREATED:20260113T023600Z
LAST-MODIFIED:20260113T083754Z
UID:8264-1769990400-1770076799@www.stmarysdubai.com
SUMMARY:CLASS OUTINGS  (Students: Years 4 D/E/F)
DESCRIPTION:EDUCATIONAL CLASS OUTING – YEAR FOUR D/E/F  (OPTIONAL) – WADI AL HAMMAR
URL:https://www.stmarysdubai.com/event/class-outings-4/
LOCATION:UAE\, Dubai\, Dubai\, United Arab Emirates
CATEGORIES:Events
END:VEVENT
END:VCALENDAR