BEGIN:VCALENDAR
VERSION:2.0
PRODID:-//Welcome to St. Mary’s Catholic High School, Dubai - ECPv6.15.12.2//NONSGML v1.0//EN
CALSCALE:GREGORIAN
METHOD:PUBLISH
X-WR-CALNAME:Welcome to St. Mary’s Catholic High School, Dubai
X-ORIGINAL-URL:https://www.stmarysdubai.com
X-WR-CALDESC:Events for Welcome to St. Mary’s Catholic High School, Dubai
REFRESH-INTERVAL;VALUE=DURATION:PT1H
X-Robots-Tag:noindex
X-PUBLISHED-TTL:PT1H
BEGIN:VTIMEZONE
TZID:UTC
BEGIN:STANDARD
TZOFFSETFROM:+0000
TZOFFSETTO:+0000
TZNAME:UTC
DTSTART:20250101T000000
END:STANDARD
END:VTIMEZONE
BEGIN:VEVENT
DTSTART;TZID=UTC:20260218T080000
DTEND;TZID=UTC:20260306T121000
DTSTAMP:20260424T210451
CREATED:20260218T081736Z
LAST-MODIFIED:20260306T134933Z
UID:8626-1771401600-1772799000@www.stmarysdubai.com
SUMMARY:Ramadan School Timings
DESCRIPTION:
URL:https://www.stmarysdubai.com/event/ramadan-school-timings/
LOCATION:SMCHS\, ST. MARYS CATHOLIC HIGH SCHOOL\, Dubai\, Dubai\, 52232\, United Arab Emirates
CATEGORIES:Events
END:VEVENT
BEGIN:VEVENT
DTSTART;TZID=UTC:20260221T073000
DTEND;TZID=UTC:20260221T123000
DTSTAMP:20260424T210451
CREATED:20260131T025649Z
LAST-MODIFIED:20260218T081832Z
UID:8428-1771659000-1771677000@www.stmarysdubai.com
SUMMARY:FIRST TERM REPORT DAY - PARENT TEACHER MEETING
DESCRIPTION:FIRST TERM REPORT DAY AND PARENT TEACHER MEETING
URL:https://www.stmarysdubai.com/event/first-term-report-day-and-parent-teacher-meeting/
LOCATION:SMCHS\, ST. MARYS CATHOLIC HIGH SCHOOL\, Dubai\, Dubai\, 52232\, United Arab Emirates
CATEGORIES:Events
END:VEVENT
BEGIN:VEVENT
DTSTART;TZID=UTC:20260221T080000
DTEND;TZID=UTC:20260221T100000
DTSTAMP:20260424T210451
CREATED:20260131T025724Z
LAST-MODIFIED:20260131T025743Z
UID:8430-1771660800-1771668000@www.stmarysdubai.com
SUMMARY:Year 13 Extra Classes: PHYSICS
DESCRIPTION:Year 13 Extra Classes: PHYSICS
URL:https://www.stmarysdubai.com/event/year-13-extra-classes-physics/
LOCATION:SMCHS\, ST. MARYS CATHOLIC HIGH SCHOOL\, Dubai\, Dubai\, 52232\, United Arab Emirates
CATEGORIES:Events
END:VEVENT
BEGIN:VEVENT
DTSTART;TZID=UTC:20260221T080000
DTEND;TZID=UTC:20260221T120000
DTSTAMP:20260424T210451
CREATED:20260221T035754Z
LAST-MODIFIED:20260221T035754Z
UID:8729-1771660800-1771675200@www.stmarysdubai.com
SUMMARY:PARENT AWARENESS SESSIONS
DESCRIPTION:Awareness on Narcotics\, Drugs\, Tobacco and Vaping
URL:https://www.stmarysdubai.com/event/parent-awareness-sessions/
LOCATION:SCHOOL MAIN HALL\, ST. MARYS CATHOLIC HIGH SCHOOL\, DUBAI\, United Arab Emirates
CATEGORIES:Events
END:VEVENT
BEGIN:VEVENT
DTSTART;TZID=UTC:20260221T080000
DTEND;TZID=UTC:20260221T170000
DTSTAMP:20260424T210451
CREATED:20260131T025401Z
LAST-MODIFIED:20260131T025412Z
UID:8422-1771660800-1771693200@www.stmarysdubai.com
SUMMARY:‘Building Our Future Stars - After-School Sports Program.’’
DESCRIPTION:‘Building Our Future Stars – After-School Sports Program.’’
URL:https://www.stmarysdubai.com/event/building-our-future-stars-after-school-sports-program-22/
LOCATION:SMCHS\, ST. MARYS CATHOLIC HIGH SCHOOL\, Dubai\, Dubai\, 52232\, United Arab Emirates
CATEGORIES:Events
END:VEVENT
BEGIN:VEVENT
DTSTART;TZID=UTC:20260221T080000
DTEND;TZID=UTC:20260221T170000
DTSTAMP:20260424T210451
CREATED:20260131T025807Z
LAST-MODIFIED:20260131T025820Z
UID:8433-1771660800-1771693200@www.stmarysdubai.com
SUMMARY:‘Building Our Future Stars – After-School Sports Program.’’
DESCRIPTION:‘Building Our Future Stars – After-School Sports Program.’’
URL:https://www.stmarysdubai.com/event/building-our-future-stars-after-school-sports-program-24/
LOCATION:SMCHS\, ST. MARYS CATHOLIC HIGH SCHOOL\, Dubai\, Dubai\, 52232\, United Arab Emirates
CATEGORIES:Events
END:VEVENT
END:VCALENDAR