BEGIN:VCALENDAR
VERSION:2.0
PRODID:-//Welcome to St. Mary’s Catholic High School, Dubai - ECPv6.15.12.2//NONSGML v1.0//EN
CALSCALE:GREGORIAN
METHOD:PUBLISH
X-ORIGINAL-URL:https://www.stmarysdubai.com
X-WR-CALDESC:Events for Welcome to St. Mary’s Catholic High School, Dubai
REFRESH-INTERVAL;VALUE=DURATION:PT1H
X-Robots-Tag:noindex
X-PUBLISHED-TTL:PT1H
BEGIN:VTIMEZONE
TZID:UTC
BEGIN:STANDARD
TZOFFSETFROM:+0000
TZOFFSETTO:+0000
TZNAME:UTC
DTSTART:20250101T000000
END:STANDARD
END:VTIMEZONE
BEGIN:VEVENT
DTSTART;VALUE=DATE:20260420
DTEND;VALUE=DATE:20260423
DTSTAMP:20260425T035831
CREATED:20260417T193359Z
LAST-MODIFIED:20260417T193438Z
UID:9246-1776643200-1776902399@www.stmarysdubai.com
SUMMARY:ONLINE MOCK EXAMINATIONS FOR YEAR 12
DESCRIPTION:
URL:https://www.stmarysdubai.com/event/year-12-mock-examinations-april-2026/
LOCATION:ONLINE
CATEGORIES:Events
END:VEVENT
END:VCALENDAR